BEGIN:VCALENDAR
VERSION:2.0
PRODID:-//Sieglinde Grunwald - ECPv6.15.11//NONSGML v1.0//EN
CALSCALE:GREGORIAN
METHOD:PUBLISH
X-ORIGINAL-URL:https://www.sieglinde-grunwald.com
X-WR-CALDESC:Veranstaltungen für Sieglinde Grunwald
REFRESH-INTERVAL;VALUE=DURATION:PT1H
X-Robots-Tag:noindex
X-PUBLISHED-TTL:PT1H
BEGIN:VTIMEZONE
TZID:UTC
BEGIN:STANDARD
TZOFFSETFROM:+0000
TZOFFSETTO:+0000
TZNAME:UTC
DTSTART:20240101T000000
END:STANDARD
END:VTIMEZONE
BEGIN:VEVENT
DTSTART;VALUE=DATE:20260201
DTEND;VALUE=DATE:20260301
DTSTAMP:20260421T124212
CREATED:20190531T061026Z
LAST-MODIFIED:20250227T082803Z
UID:280-1769904000-1772323199@www.sieglinde-grunwald.com
SUMMARY:Unique Exhibition Johan Zoffany
DESCRIPTION:Etiam semper\, nunc vitae volutpat efficitur\, elit nibh egestas velit\, amet euismod justo justo pharetra ipsum. Mauris tincidunt magna\, ut fringilla erat ultrices et. Class aptent taciti sociosqu ad litora torquent per conubia nostra\, per inceptos himenaeos. Donec a metus eget libero efficitur tempor. Mauris bibendum mi leo\, at pulvinar leo cursus congue. \nAenean tristique metus diam\, id mollis magna efficitur nec. Sed enenatis arcu nisl\, ac pharetra felis vestibulum vitae. Aenean sit amet pharetra eros\, et condimentum tortor. Class aptent taciti sociosqu ad litora torquent per conubia nostra\, per inceptos himenaeos. Aenean a dolor turpis. \nBuy Ticket
URL:https://www.sieglinde-grunwald.com/event/unique-exhibition-johan-zoffany/
LOCATION:Queens\, New York\, 34th Ave\, NY\, 11106\, United States
CATEGORIES:Exhibitions
ATTACH;FMTTYPE=image/jpeg:https://www.sieglinde-grunwald.com/wp-content/uploads/2019/05/image-32-copyright.jpg
ORGANIZER;CN="Ozeum Art & History Museum":MAILTO:yoursite@example.com
END:VEVENT
BEGIN:VEVENT
DTSTART;TZID=UTC:20260117T080000
DTEND;TZID=UTC:20260208T170000
DTSTAMP:20260421T124212
CREATED:20190531T060808Z
LAST-MODIFIED:20250227T083000Z
UID:277-1768636800-1770570000@www.sieglinde-grunwald.com
SUMMARY:Franklin Carmichael - "Autumn Hillside"
DESCRIPTION:Etiam semper\, nunc vitae volutpat efficitur\, elit nibh egestas velit\, amet euismod justo justo pharetra ipsum. Mauris tincidunt magna\, ut fringilla erat ultrices et. Class aptent taciti sociosqu ad litora torquent per conubia nostra\, per inceptos himenaeos. Donec a metus eget libero efficitur tempor. Mauris bibendum mi leo\, at pulvinar leo cursus congue. \nAenean tristique metus diam\, id mollis magna efficitur nec. Sed enenatis arcu nisl\, ac pharetra felis vestibulum vitae. Aenean sit amet pharetra eros\, et condimentum tortor. Class aptent taciti sociosqu ad litora torquent per conubia nostra\, per inceptos himenaeos. Aenean a dolor turpis. \nBuy Ticket
URL:https://www.sieglinde-grunwald.com/event/franklin-carmichael-autumn-hillside/
LOCATION:Queens\, New York\, 34th Ave\, NY\, 11106\, United States
CATEGORIES:Exhibitions
ATTACH;FMTTYPE=image/jpeg:https://www.sieglinde-grunwald.com/wp-content/uploads/2019/05/image-18-copyright.jpg
ORGANIZER;CN="Ozeum Art & History Museum":MAILTO:yoursite@example.com
END:VEVENT
BEGIN:VEVENT
DTSTART;TZID=UTC:20251229T080000
DTEND;TZID=UTC:20251229T170000
DTSTAMP:20260421T124212
CREATED:20240603T095743Z
LAST-MODIFIED:20250220T122214Z
UID:5756-1766995200-1767027600@www.sieglinde-grunwald.com
SUMMARY:Uncovering Secrets of Extraterrestrial Life
DESCRIPTION:Join us for a captivating event that reveals the latest discoveries and theories about extraterrestrial life. Featuring leading scientists and researchers\, this event offers a comprehensive look at the search for life beyond Earth\, including new findings\, technological advancements\, and the implications for humanity. Learn about the cutting-edge tools and techniques used to explore distant planets and moons\, and hear about the most promising discoveries to date.
URL:https://www.sieglinde-grunwald.com/event/uncovering-secrets-of-extraterrestrial-life/
LOCATION:Queens\, New York\, 34th Ave\, NY\, 11106\, United States
CATEGORIES:Alien
ATTACH;FMTTYPE=image/jpeg:https://www.sieglinde-grunwald.com/wp-content/uploads/revslider/video-media/slider-video-9_6_layer.jpeg
ORGANIZER;CN="Ozeum Art & History Museum":MAILTO:yoursite@example.com
END:VEVENT
BEGIN:VEVENT
DTSTART;TZID=UTC:20251215T080000
DTEND;TZID=UTC:20260113T170000
DTSTAMP:20260421T124212
CREATED:20190531T055858Z
LAST-MODIFIED:20250227T083116Z
UID:274-1765785600-1768323600@www.sieglinde-grunwald.com
SUMMARY:"The Pilgrim Mourning His Dead Ass"
DESCRIPTION:Etiam semper\, nunc vitae volutpat efficitur\, elit nibh egestas velit\, amet euismod justo justo pharetra ipsum. Mauris tincidunt magna\, ut fringilla erat ultrices et. Class aptent taciti sociosqu ad litora torquent per conubia nostra\, per inceptos himenaeos. Donec a metus eget libero efficitur tempor. Mauris bibendum mi leo\, at pulvinar leo cursus congue. \nAenean tristique metus diam\, id mollis magna efficitur nec. Sed enenatis arcu nisl\, ac pharetra felis vestibulum vitae. Aenean sit amet pharetra eros\, et condimentum tortor. Class aptent taciti sociosqu ad litora torquent per conubia nostra\, per inceptos himenaeos. Aenean a dolor turpis. \nBuy Ticket
URL:https://www.sieglinde-grunwald.com/event/the-pilgrim-mourning-his-dead-ass/
LOCATION:Queens\, New York\, 34th Ave\, NY\, 11106\, United States
CATEGORIES:Exhibitions
ATTACH;FMTTYPE=image/jpeg:https://www.sieglinde-grunwald.com/wp-content/uploads/2019/05/image-72-copyright.jpg
ORGANIZER;CN="Ozeum Art & History Museum":MAILTO:yoursite@example.com
END:VEVENT
BEGIN:VEVENT
DTSTART;VALUE=DATE:20251125
DTEND;VALUE=DATE:20251126
DTSTAMP:20260421T124212
CREATED:20250220T115013Z
LAST-MODIFIED:20250220T115118Z
UID:5881-1764028800-1764115199@www.sieglinde-grunwald.com
SUMMARY:William Turner and the Modern World
DESCRIPTION:Etiam semper\, nunc vitae volutpat efficitur\, elit nibh egestas velit\, amet euismod justo justo pharetra ipsum. Mauris tincidunt magna\, ut fringilla erat ultrices et. Class aptent taciti sociosqu ad litora torquent per conubia nostra\, per inceptos himenaeos. Donec a metus eget libero efficitur tempor. Mauris bibendum mi leo\, at pulvinar leo cursus congue. \nAenean tristique metus diam\, id mollis magna efficitur nec. Sed enenatis arcu nisl\, ac pharetra felis vestibulum vitae. Aenean sit amet pharetra eros\, et condimentum tortor. Class aptent taciti sociosqu ad litora torquent per conubia nostra\, per inceptos himenaeos. Aenean a dolor turpis.
URL:https://www.sieglinde-grunwald.com/event/william-turner-and-the-modern-world/
LOCATION:Queens\, New York\, 34th Ave\, NY\, 11106\, United States
CATEGORIES:Exhibitions
ATTACH;FMTTYPE=image/jpeg:https://www.sieglinde-grunwald.com/wp-content/uploads/2019/05/image-2-copyright.jpg
ORGANIZER;CN="Ozeum Art & History Museum":MAILTO:yoursite@example.com
END:VEVENT
BEGIN:VEVENT
DTSTART;TZID=UTC:20251120T080000
DTEND;TZID=UTC:20251223T170000
DTSTAMP:20260421T124212
CREATED:20190531T053941Z
LAST-MODIFIED:20250227T083301Z
UID:271-1763625600-1766509200@www.sieglinde-grunwald.com
SUMMARY:Damaskenos Michael - "Four military saints"
DESCRIPTION:Etiam semper\, nunc vitae volutpat efficitur\, elit nibh egestas velit\, amet euismod justo justo pharetra ipsum. Mauris tincidunt magna\, ut fringilla erat ultrices et. Class aptent taciti sociosqu ad litora torquent per conubia nostra\, per inceptos himenaeos. Donec a metus eget libero efficitur tempor. Mauris bibendum mi leo\, at pulvinar leo cursus congue. \nAenean tristique metus diam\, id mollis magna efficitur nec. Sed enenatis arcu nisl\, ac pharetra felis vestibulum vitae. Aenean sit amet pharetra eros\, et condimentum tortor. Class aptent taciti sociosqu ad litora torquent per conubia nostra\, per inceptos himenaeos. Aenean a dolor turpis. \nBuy Ticket
URL:https://www.sieglinde-grunwald.com/event/damaskenos-michael-four-military-saints/
LOCATION:Queens\, New York\, 34th Ave\, NY\, 11106\, United States
CATEGORIES:Exhibitions
ATTACH;FMTTYPE=image/jpeg:https://www.sieglinde-grunwald.com/wp-content/uploads/2019/05/image-71-copyright.jpg
ORGANIZER;CN="Ozeum Art & History Museum":MAILTO:yoursite@example.com
END:VEVENT
BEGIN:VEVENT
DTSTART;TZID=UTC:20251103T080000
DTEND;TZID=UTC:20251103T170000
DTSTAMP:20260421T124212
CREATED:20240603T095432Z
LAST-MODIFIED:20250220T114231Z
UID:5754-1762156800-1762189200@www.sieglinde-grunwald.com
SUMMARY:Exploring the Universe's Greatest Mysteries
DESCRIPTION:Embark on a cosmic adventure as we investigate the most profound and perplexing mysteries of the universe. From the existence of extraterrestrial civilizations to the enigma of black holes\, this event features engaging presentations\, thought-provoking discussions\, and cutting-edge research. Renowned scientists and researchers will share their insights and discoveries\, offering attendees a deep dive into the unknown.
URL:https://www.sieglinde-grunwald.com/event/exploring-the-universes-greatest-mysteries/
CATEGORIES:Alien
END:VEVENT
BEGIN:VEVENT
DTSTART;TZID=UTC:20251018T080000
DTEND;TZID=UTC:20251114T170000
DTSTAMP:20260421T124212
CREATED:20190531T061521Z
LAST-MODIFIED:20250227T084058Z
UID:283-1760774400-1763139600@www.sieglinde-grunwald.com
SUMMARY:Jean Francois De Troy "Bathsheba At Her Toilet"
DESCRIPTION:Etiam semper\, nunc vitae volutpat efficitur\, elit nibh egestas velit\, amet euismod justo justo pharetra ipsum. Mauris tincidunt magna\, ut fringilla erat ultrices et. Class aptent taciti sociosqu ad litora torquent per conubia nostra\, per inceptos himenaeos. Donec a metus eget libero efficitur tempor. Mauris bibendum mi leo\, at pulvinar leo cursus congue. \nAenean tristique metus diam\, id mollis magna efficitur nec. Sed enenatis arcu nisl\, ac pharetra felis vestibulum vitae. Aenean sit amet pharetra eros\, et condimentum tortor. Class aptent taciti sociosqu ad litora torquent per conubia nostra\, per inceptos himenaeos. Aenean a dolor turpis. \nBuy Ticket
URL:https://www.sieglinde-grunwald.com/event/jean-francois-de-troy-bathsheba-at-her-toilet/
LOCATION:Queens\, New York\, 34th Ave\, NY\, 11106\, United States
CATEGORIES:Exhibitions
ATTACH;FMTTYPE=image/jpeg:https://www.sieglinde-grunwald.com/wp-content/uploads/2019/06/image-42-copyright.jpg
ORGANIZER;CN="Ozeum Art & History Museum":MAILTO:yoursite@example.com
END:VEVENT
BEGIN:VEVENT
DTSTART;VALUE=DATE:20250607
DTEND;VALUE=DATE:20250626
DTSTAMP:20260421T124212
CREATED:20190604T065111Z
LAST-MODIFIED:20250227T084926Z
UID:478-1749254400-1750895999@www.sieglinde-grunwald.com
SUMMARY:Golden Age of Renaissance Exhibition
DESCRIPTION:Etiam semper\, nunc vitae volutpat efficitur\, elit nibh egestas velit\, amet euismod justo justo pharetra ipsum. Mauris tincidunt magna\, ut fringilla erat ultrices et. Class aptent taciti sociosqu ad litora torquent per conubia nostra\, per inceptos himenaeos. Donec a metus eget libero efficitur tempor. Mauris bibendum mi leo\, at pulvinar leo cursus congue. \nAenean tristique metus diam\, id mollis magna efficitur nec. Sed enenatis arcu nisl\, ac pharetra felis vestibulum vitae. Aenean sit amet pharetra eros\, et condimentum tortor. Class aptent taciti sociosqu ad litora torquent per conubia nostra\, per inceptos himenaeos. Aenean a dolor turpis. \nBuy Ticket
URL:https://www.sieglinde-grunwald.com/event/golden-age-of-renaissance-exhibition/
LOCATION:Queens\, New York\, 34th Ave\, NY\, 11106\, United States
CATEGORIES:Invitation
ATTACH;FMTTYPE=image/jpeg:https://www.sieglinde-grunwald.com/wp-content/uploads/2019/05/image-40-copyright.jpg
ORGANIZER;CN="Ozeum Art & History Museum":MAILTO:yoursite@example.com
END:VEVENT
BEGIN:VEVENT
DTSTART;TZID=UTC:20250515T080000
DTEND;TZID=UTC:20250621T170000
DTSTAMP:20260421T124212
CREATED:20190530T125124Z
LAST-MODIFIED:20250227T085022Z
UID:267-1747296000-1750525200@www.sieglinde-grunwald.com
SUMMARY:"Country Road in Provence by Night"
DESCRIPTION:Etiam semper\, nunc vitae volutpat efficitur\, elit nibh egestas velit\, amet euismod justo justo pharetra ipsum. Mauris tincidunt magna\, ut fringilla erat ultrices et. Class aptent taciti sociosqu ad litora torquent per conubia nostra\, per inceptos himenaeos. Donec a metus eget libero efficitur tempor. Mauris bibendum mi leo\, at pulvinar leo cursus congue. \nAenean tristique metus diam\, id mollis magna efficitur nec. Sed enenatis arcu nisl\, ac pharetra felis vestibulum vitae. Aenean sit amet pharetra eros\, et condimentum tortor. Class aptent taciti sociosqu ad litora torquent per conubia nostra\, per inceptos himenaeos. Aenean a dolor turpis. \nBuy Ticket
URL:https://www.sieglinde-grunwald.com/event/country-road-in-provence-by-night/
LOCATION:Queens\, New York\, 34th Ave\, NY\, 11106\, United States
CATEGORIES:Exhibitions
ATTACH;FMTTYPE=image/jpeg:https://www.sieglinde-grunwald.com/wp-content/uploads/2019/05/image-70-copyright.jpg
ORGANIZER;CN="Ozeum Art & History Museum":MAILTO:yoursite@example.com
END:VEVENT
BEGIN:VEVENT
DTSTART;TZID=UTC:20250508T000000
DTEND;TZID=UTC:20250525T235900
DTSTAMP:20260421T124212
CREATED:20190606T064320Z
LAST-MODIFIED:20250227T085114Z
UID:690-1746662400-1748217540@www.sieglinde-grunwald.com
SUMMARY:Pieter Bruegel The Elder
DESCRIPTION:Etiam semper\, nunc vitae volutpat efficitur\, elit nibh egestas velit\, amet euismod justo justo pharetra ipsum. Mauris tincidunt magna\, ut fringilla erat ultrices et. Class aptent taciti sociosqu ad litora torquent per conubia nostra\, per inceptos himenaeos. Donec a metus eget libero efficitur tempor. Mauris bibendum mi leo\, at pulvinar leo cursus congue. \nAenean tristique metus diam\, id mollis magna efficitur nec. Sed enenatis arcu nisl\, ac pharetra felis vestibulum vitae. Aenean sit amet pharetra eros\, et condimentum tortor. Class aptent taciti sociosqu ad litora torquent per conubia nostra\, per inceptos himenaeos. Aenean a dolor turpis. \nBuy Ticket
URL:https://www.sieglinde-grunwald.com/event/pieter-bruegel-the-elder/
LOCATION:Queens\, New York\, 34th Ave\, NY\, 11106\, United States
CATEGORIES:Galleries
ATTACH;FMTTYPE=image/jpeg:https://www.sieglinde-grunwald.com/wp-content/uploads/2019/06/image-46-copyright.jpg
ORGANIZER;CN="Ozeum Art & History Museum":MAILTO:yoursite@example.com
END:VEVENT
BEGIN:VEVENT
DTSTART;TZID=UTC:20250409T000000
DTEND;TZID=UTC:20250505T235900
DTSTAMP:20260421T124212
CREATED:20190604T065223Z
LAST-MODIFIED:20250227T085323Z
UID:480-1744156800-1746489540@www.sieglinde-grunwald.com
SUMMARY:Records & Rebels 1966-1970
DESCRIPTION:Etiam semper\, nunc vitae volutpat efficitur\, elit nibh egestas velit\, amet euismod justo justo pharetra ipsum. Mauris tincidunt magna\, ut fringilla erat ultrices et. Class aptent taciti sociosqu ad litora torquent per conubia nostra\, per inceptos himenaeos. Donec a metus eget libero efficitur tempor. Mauris bibendum mi leo\, at pulvinar leo cursus congue. \nAenean tristique metus diam\, id mollis magna efficitur nec. Sed enenatis arcu nisl\, ac pharetra felis vestibulum vitae. Aenean sit amet pharetra eros\, et condimentum tortor. Class aptent taciti sociosqu ad litora torquent per conubia nostra\, per inceptos himenaeos. Aenean a dolor turpis. \nBuy Ticket
URL:https://www.sieglinde-grunwald.com/event/records-rebels-1966-1970/
LOCATION:Queens\, New York\, 34th Ave\, NY\, 11106\, United States
CATEGORIES:Invitation
ATTACH;FMTTYPE=image/jpeg:https://www.sieglinde-grunwald.com/wp-content/uploads/2019/06/image-45-copyright.jpg
ORGANIZER;CN="Ozeum Art & History Museum":MAILTO:yoursite@example.com
END:VEVENT
END:VCALENDAR